BEGIN:VCALENDAR
VERSION:2.0
PRODID:-//Plone.org//NONSGML plone.app.event//EN
X-WR-TIMEZONE:Europe/Berlin
BEGIN:VEVENT
SUMMARY:Lesekreis und Gespräch mit der iranischen Autorin Fariba Vafi
DTSTART;TZID=Europe/Berlin:20230614T160000
DTEND;TZID=Europe/Berlin:20230614T170000
DTSTAMP:20260424T102151Z
UID:07bcc41af68a43bcbb236a16dd0620c8@www.uni-marburg.de
ATTENDEE;CN="Fariba Vafi";ROLE=REQ-PARTICIPANT:Fariba Vafi
CREATED:20230614T142933Z
DESCRIPTION:https://www.uni-marburg.de/de/cnms/aktuelles/termine/lesekreis
 -und-gespraech-mit-der-iranischen-autorin-fariba-vafi\nDie preisgekrönte 
 Autorin liest gemeinsam mit uns eine ihrer Kurzgeschichten. Außerdem habe
 n wir die Gelegenheit zu einem Gespräch über ihr schriftstellerisches Ar
 beiten. Die Veranstaltung findet auf Persisch statt.
LAST-MODIFIED:20230614T142943Z
LOCATION:CNMS\, Raum 00A03
URL:https://www.uni-marburg.de/de/cnms/aktuelles/termine/lesekreis-und-ges
 praech-mit-der-iranischen-autorin-fariba-vafi
END:VEVENT
BEGIN:VTIMEZONE
TZID:Europe/Berlin
X-LIC-LOCATION:Europe/Berlin
BEGIN:DAYLIGHT
DTSTART:20230326T030000
TZNAME:CEST
TZOFFSETFROM:+0100
TZOFFSETTO:+0200
END:DAYLIGHT
END:VTIMEZONE
END:VCALENDAR
