BEGIN:VCALENDAR
VERSION:2.0
PRODID:-//Plone.org//NONSGML plone.app.event//EN
X-WR-TIMEZONE:Europe/Berlin
BEGIN:VEVENT
SUMMARY:Lesung mit syrischen Dichter:innen
DTSTART;TZID=Europe/Berlin:20210610T180000
DTEND;TZID=Europe/Berlin:20210610T200000
DTSTAMP:20260419T170757Z
UID:1d38338a840b4604892d575fed505ad1@www.uni-marburg.de
ATTENDEE;CN="Kholoud Charaf";ROLE=REQ-PARTICIPANT:Kholoud Charaf
ATTENDEE;CN="Hamed Abboud";ROLE=REQ-PARTICIPANT:Hamed Abboud
ATTENDEE;CN="Übersetzerin Kerstin Wilsch";ROLE=REQ-PARTICIPANT:Übersetze
 rin Kerstin Wilsch
CREATED:20210608T103553Z
DESCRIPTION:https://www.uni-marburg.de/de/cnms/aktuelles/termine/lesung-mi
 t-syrischen-dichter-innen\n
LAST-MODIFIED:20210608T104425Z
LOCATION:BBB-Konferenz
URL:https://www.uni-marburg.de/de/cnms/aktuelles/termine/lesung-mit-syrisc
 hen-dichter-innen
END:VEVENT
BEGIN:VTIMEZONE
TZID:Europe/Berlin
X-LIC-LOCATION:Europe/Berlin
BEGIN:DAYLIGHT
DTSTART:20210328T030000
TZNAME:CEST
TZOFFSETFROM:+0100
TZOFFSETTO:+0200
END:DAYLIGHT
END:VTIMEZONE
END:VCALENDAR
