BEGIN:VCALENDAR
VERSION:2.0
PRODID:-//Plone.org//NONSGML plone.app.event//EN
X-WR-TIMEZONE:Europe/Berlin
BEGIN:VEVENT
SUMMARY:The Gulf Triangle: understanding the relations between Iran\, Saud
 i Arabia and the United States through a strategic triangular framework
DTSTART;TZID=Europe/Berlin:20180627T121500
DTEND;TZID=Europe/Berlin:20180627T140000
DTSTAMP:20260424T055151Z
UID:c8cfb35a0e8d4ffa87abe666b9efd7f0@www.uni-marburg.de
CREATED:20180511T151826Z
DESCRIPTION:https://www.uni-marburg.de/de/cnms/aktuelles/termine/luiza-cer
 ioli-the-gulf-triangle-understanding-the-relations-between-iran-saudi-arab
 ia-and-the-united-states-through-a-strategic-triangular-framework\nVortrag
   von Luíza Cerioli\, Doktorandin im FG Politik NMO im Rahmen des CNMS-Ko
 lloquiums (talk in english)
LAST-MODIFIED:20180522T133749Z
LOCATION:CNMS\, Deutschhausstraße 12\, Raum 00A02
URL:https://www.uni-marburg.de/de/cnms/aktuelles/termine/luiza-cerioli-the
 -gulf-triangle-understanding-the-relations-between-iran-saudi-arabia-and-t
 he-united-states-through-a-strategic-triangular-framework
END:VEVENT
BEGIN:VTIMEZONE
TZID:Europe/Berlin
X-LIC-LOCATION:Europe/Berlin
BEGIN:DAYLIGHT
DTSTART:20180325T030000
TZNAME:CEST
TZOFFSETFROM:+0100
TZOFFSETTO:+0200
END:DAYLIGHT
END:VTIMEZONE
END:VCALENDAR
