BEGIN:VCALENDAR
VERSION:2.0
PRODID:-//Plone.org//NONSGML plone.app.event//EN
X-WR-TIMEZONE:Europe/Berlin
BEGIN:VEVENT
SUMMARY:Macht und Hierarchien am Beispiel von Gärten im islamischen Indie
 n
DTSTART;TZID=Europe/Berlin:20241111T180000
DTEND;TZID=Europe/Berlin:20241111T200000
DTSTAMP:20260425T020549Z
UID:2541e80d166841479c5d13b126d6f226@www.uni-marburg.de
ATTENDEE;CN="Sara Keller, Max Weber-Kolleg Erfurt";ROLE=REQ-PARTICIPANT:Sa
 ra Keller, Max Weber-Kolleg Erfurt
CREATED:20241014T131843Z
DESCRIPTION:https://www.uni-marburg.de/de/cnms/aktuelles/termine/macht-und
 -hierarchien-am-beispiel-von-gaerten-im-islamischen-indien\nRingvorlesung 
 MCAW
LAST-MODIFIED:20241014T131849Z
LOCATION:UB Vortragsraum B008
URL:https://www.uni-marburg.de/de/cnms/aktuelles/termine/macht-und-hierarc
 hien-am-beispiel-von-gaerten-im-islamischen-indien
END:VEVENT
BEGIN:VTIMEZONE
TZID:Europe/Berlin
X-LIC-LOCATION:Europe/Berlin
BEGIN:STANDARD
DTSTART:20241027T020000
TZNAME:CET
TZOFFSETFROM:+0200
TZOFFSETTO:+0100
END:STANDARD
END:VTIMEZONE
END:VCALENDAR
