BEGIN:VCALENDAR
VERSION:2.0
PRODID:-//Plone.org//NONSGML plone.app.event//EN
X-WR-TIMEZONE:Europe/Berlin
BEGIN:VEVENT
SUMMARY:"Mesopotamian Myth and Philology in Biblical Theory: More on Philo
 sophy and Science in the Ancient Near East"
DTSTART;TZID=Europe/Berlin:20240604T180000
DTEND;TZID=Europe/Berlin:20240604T200000
DTSTAMP:20260425T002641Z
UID:98edb335eb5745d9862b1fe0e884ae90@www.uni-marburg.de
ATTENDEE;CN="Prof. Dr. Abraham Winitzer";ROLE=REQ-PARTICIPANT:Prof. Dr. Ab
 raham Winitzer
CREATED:20240416T125854Z
DESCRIPTION:https://www.uni-marburg.de/de/cnms/aktuelles/termine/mesopotam
 ian-myth-and-philology-in-biblical-theory-more-on-philosophy-and-science-i
 n-the-ancient-near-east-1\nGastvortrag FB Semitistik
LAST-MODIFIED:20240416T125901Z
LOCATION:CNMS Hörsaal 00A26
URL:https://www.uni-marburg.de/de/cnms/aktuelles/termine/mesopotamian-myth
 -and-philology-in-biblical-theory-more-on-philosophy-and-science-in-the-an
 cient-near-east-1
END:VEVENT
BEGIN:VTIMEZONE
TZID:Europe/Berlin
X-LIC-LOCATION:Europe/Berlin
BEGIN:DAYLIGHT
DTSTART:20240331T030000
TZNAME:CEST
TZOFFSETFROM:+0100
TZOFFSETTO:+0200
END:DAYLIGHT
END:VTIMEZONE
END:VCALENDAR
