BEGIN:VCALENDAR
VERSION:2.0
PRODID:-//Plone.org//NONSGML plone.app.event//EN
X-WR-TIMEZONE:Europe/Berlin
BEGIN:VEVENT
SUMMARY:Mleiha. Wiederentdeckung eines antiken Königreiches in Arabien
DTSTART;TZID=Europe/Berlin:20191217T181500
DTEND;TZID=Europe/Berlin:20191217T194500
DTSTAMP:20260424T114503Z
UID:adf757db7be7404e90c427eda6a8279a@www.uni-marburg.de
CREATED:20191031T104145Z
DESCRIPTION:https://www.uni-marburg.de/de/cnms/aktuelles/termine/mleiha-wi
 ederentdeckung-eines-antiken-koenigreiches-in-arabien\nVortrag von Dr. Pet
 er Stein\, Jena/Erfurt
LAST-MODIFIED:20191031T112459Z
LOCATION:CNMS\, Deutschhausstr. 12\, Hörsaal (00A26)
URL:https://www.uni-marburg.de/de/cnms/aktuelles/termine/mleiha-wiederentd
 eckung-eines-antiken-koenigreiches-in-arabien
END:VEVENT
BEGIN:VTIMEZONE
TZID:Europe/Berlin
X-LIC-LOCATION:Europe/Berlin
BEGIN:STANDARD
DTSTART:20191027T020000
TZNAME:CET
TZOFFSETFROM:+0200
TZOFFSETTO:+0100
END:STANDARD
END:VTIMEZONE
END:VCALENDAR
