BEGIN:VCALENDAR
VERSION:2.0
PRODID:-//Plone.org//NONSGML plone.app.event//EN
X-WR-TIMEZONE:Europe/Berlin
BEGIN:VEVENT
SUMMARY:Modelling Ethno-Religious Relations in Diverse Societies
DTSTART;TZID=Europe/Berlin:20231017T180000
DTEND;TZID=Europe/Berlin:20231017T200000
DTSTAMP:20260419T163232Z
UID:5137a5c50282486ca7cceed5dea91580@www.uni-marburg.de
ATTENDEE;CN="Prof. Dr. Brian Catlos, Boulder, Colorado, religious Studies"
 ;ROLE=REQ-PARTICIPANT:Prof. Dr. Brian Catlos, Boulder, Colorado, religious
  Studies
CREATED:20231004T075956Z
DESCRIPTION:https://www.uni-marburg.de/de/cnms/aktuelles/termine/modelling
 -ethno-religious-relations-in-diverse-societies\n
LAST-MODIFIED:20231004T080107Z
LOCATION:CNMS\, Hörsaal 00A26\, Deutschhausstraße 12
URL:https://www.uni-marburg.de/de/cnms/aktuelles/termine/modelling-ethno-r
 eligious-relations-in-diverse-societies
END:VEVENT
BEGIN:VTIMEZONE
TZID:Europe/Berlin
X-LIC-LOCATION:Europe/Berlin
BEGIN:DAYLIGHT
DTSTART:20230326T030000
TZNAME:CEST
TZOFFSETFROM:+0100
TZOFFSETTO:+0200
END:DAYLIGHT
END:VTIMEZONE
END:VCALENDAR
