BEGIN:VCALENDAR
VERSION:2.0
PRODID:-//Plone.org//NONSGML plone.app.event//EN
X-WR-TIMEZONE:Europe/Berlin
BEGIN:VEVENT
SUMMARY:Nachhaltigkeit und Rohstoffe - Politik und Wissenschaft im Gesprä
 ch
DTSTART;TZID=Europe/Berlin:20230209T180000
DTEND;TZID=Europe/Berlin:20230209T200000
DTSTAMP:20260424T222128Z
UID:063cf527b5594df4affdcd521e46db5a@www.uni-marburg.de
CREATED:20220927T112246Z
DESCRIPTION:https://www.uni-marburg.de/de/cnms/aktuelles/termine/nachhalti
 gkeit-und-rohstoffe-politik-und-wissenschaft-im-gespraech\nRingvorlesung E
 xtractivism
LAST-MODIFIED:20221013T110129Z
LOCATION:Kassel
URL:https://www.uni-marburg.de/de/cnms/aktuelles/termine/nachhaltigkeit-un
 d-rohstoffe-politik-und-wissenschaft-im-gespraech
END:VEVENT
BEGIN:VTIMEZONE
TZID:Europe/Berlin
X-LIC-LOCATION:Europe/Berlin
BEGIN:STANDARD
DTSTART:20221030T020000
TZNAME:CET
TZOFFSETFROM:+0200
TZOFFSETTO:+0100
END:STANDARD
END:VTIMEZONE
END:VCALENDAR
