BEGIN:VCALENDAR
VERSION:2.0
PRODID:-//Plone.org//NONSGML plone.app.event//EN
X-WR-TIMEZONE:Europe/Berlin
BEGIN:VEVENT
SUMMARY:NaDiMa Dialogue #17: Applications of Disaster Loss Assessment in D
 isaster Risk Management
DTSTART;TZID=Europe/Berlin:20220428T160000
DTEND;TZID=Europe/Berlin:20220428T180000
DTSTAMP:20260424T143445Z
UID:1121dcf9cd12420fb365de3c3601a5d4@www.uni-marburg.de
CREATED:20220413T162357Z
DESCRIPTION:https://www.uni-marburg.de/de/cnms/aktuelles/termine/nadima-di
 alogue-17-applications-of-disaster-loss-assessment-in-disaster-risk-manage
 ment\n
LAST-MODIFIED:20220413T162409Z
LOCATION:digital
URL:https://www.uni-marburg.de/de/cnms/aktuelles/termine/nadima-dialogue-1
 7-applications-of-disaster-loss-assessment-in-disaster-risk-management
END:VEVENT
BEGIN:VTIMEZONE
TZID:Europe/Berlin
X-LIC-LOCATION:Europe/Berlin
BEGIN:DAYLIGHT
DTSTART:20220327T030000
TZNAME:CEST
TZOFFSETFROM:+0100
TZOFFSETTO:+0200
END:DAYLIGHT
END:VTIMEZONE
END:VCALENDAR
