BEGIN:VCALENDAR
VERSION:2.0
PRODID:-//Plone.org//NONSGML plone.app.event//EN
X-WR-TIMEZONE:Europe/Berlin
BEGIN:VEVENT
SUMMARY:Nahrungsmittelsicherheit im Nahen Osten: Covid-19\, Ukrainekrieg u
 nd Lehren vergangener Krisen
DTSTART;TZID=Europe/Berlin:20221123T201500
DTEND;TZID=Europe/Berlin:20221123T214500
DTSTAMP:20260425T140849Z
UID:dec669653374444bbc421362581a4763@www.uni-marburg.de
ATTENDEE;CN="Prof. Dr. Eckart Woertz,  German Institute for Global and Are
 a Studies (GIGA), Hamburg";ROLE=REQ-PARTICIPANT:Prof. Dr. Eckart Woertz,  
 German Institute for Global and Area Studies (GIGA), Hamburg
CREATED:20220927T120721Z
DESCRIPTION:https://www.uni-marburg.de/de/cnms/aktuelles/termine/nahrungsm
 ittelsicherheit-im-nahen-osten-covid-19-ukrainekrieg-und-lehren-vergangene
 r-krisen\nStudium Generale der Philipps-Universität Marburg im Winterseme
 ster 2022/23
LAST-MODIFIED:20221010T102321Z
LOCATION:UB Vortragsraum
URL:https://www.uni-marburg.de/de/cnms/aktuelles/termine/nahrungsmittelsic
 herheit-im-nahen-osten-covid-19-ukrainekrieg-und-lehren-vergangener-krisen
END:VEVENT
BEGIN:VTIMEZONE
TZID:Europe/Berlin
X-LIC-LOCATION:Europe/Berlin
BEGIN:STANDARD
DTSTART:20221030T020000
TZNAME:CET
TZOFFSETFROM:+0200
TZOFFSETTO:+0100
END:STANDARD
END:VTIMEZONE
END:VCALENDAR
