BEGIN:VCALENDAR
VERSION:2.0
PRODID:-//Plone.org//NONSGML plone.app.event//EN
X-WR-TIMEZONE:Europe/Berlin
BEGIN:VEVENT
SUMMARY:Prof. Dr. Mohammed Farzanegan: Öl und die Mittelschichten im Iran
DTSTART;TZID=Europe/Berlin:20221208T180000
DTEND;TZID=Europe/Berlin:20221208T200000
DTSTAMP:20260420T204300Z
UID:a59324ff262247ac8f9d57a9ab808bb1@www.uni-marburg.de
ATTENDEE;CN="Prof. Dr. Mohammed Farzanegan";ROLE=REQ-PARTICIPANT:Prof. Dr.
  Mohammed Farzanegan
CREATED:20220923T113354Z
DESCRIPTION:https://www.uni-marburg.de/de/cnms/aktuelles/termine/oel-und-d
 ie-mittelschichten-im-iran\nRingvorlesung Extractivism
LAST-MODIFIED:20221013T101641Z
LOCATION:Marburg\, CNMS\, 00A26
URL:https://www.uni-marburg.de/de/cnms/aktuelles/termine/oel-und-die-mitte
 lschichten-im-iran
END:VEVENT
BEGIN:VTIMEZONE
TZID:Europe/Berlin
X-LIC-LOCATION:Europe/Berlin
BEGIN:STANDARD
DTSTART:20221030T020000
TZNAME:CET
TZOFFSETFROM:+0200
TZOFFSETTO:+0100
END:STANDARD
END:VTIMEZONE
END:VCALENDAR
