BEGIN:VCALENDAR
VERSION:2.0
PRODID:-//Plone.org//NONSGML plone.app.event//EN
X-WR-TIMEZONE:Europe/Berlin
BEGIN:VEVENT
SUMMARY:Overcoming Extractivism in Latin America and the Maghreb - Event F
 eaturing New Project Fellows
DTSTART;TZID=Europe/Berlin:20240619T100000
DTEND;TZID=Europe/Berlin:20240619T130000
DTSTAMP:20260421T113208Z
UID:e8dbf14d4a2f45429b40c3fc926b4545@www.uni-marburg.de
CREATED:20240416T130751Z
DESCRIPTION:https://www.uni-marburg.de/de/cnms/aktuelles/termine/overcomin
 g-extractivism-in-latin-america-and-the-maghreb-event-featuring-new-projec
 t-fellows\nRohstoffextraktivismus in Lateinamerika und im Maghreb
LAST-MODIFIED:20240606T132357Z
LOCATION:CNMS
URL:https://www.uni-marburg.de/de/cnms/aktuelles/termine/overcoming-extrac
 tivism-in-latin-america-and-the-maghreb-event-featuring-new-project-fellow
 s
END:VEVENT
BEGIN:VTIMEZONE
TZID:Europe/Berlin
X-LIC-LOCATION:Europe/Berlin
BEGIN:DAYLIGHT
DTSTART:20240331T030000
TZNAME:CEST
TZOFFSETFROM:+0100
TZOFFSETTO:+0200
END:DAYLIGHT
END:VTIMEZONE
END:VCALENDAR
