BEGIN:VCALENDAR
VERSION:2.0
PRODID:-//Plone.org//NONSGML plone.app.event//EN
X-WR-TIMEZONE:Europe/Berlin
BEGIN:VEVENT
SUMMARY:Reading the Erasure of Palestine in German Academia
DTSTART;TZID=Europe/Berlin:20230508T180000
DTEND;TZID=Europe/Berlin:20230508T200000
DTSTAMP:20260424T135048Z
UID:8e6920a7be4d4f25ae02e13ed4e7f6f1@www.uni-marburg.de
ATTENDEE;CN="Dr. Sanabel Abdelrahman";ROLE=REQ-PARTICIPANT:Dr. Sanabel Abd
 elrahman
CREATED:20230404T131945Z
DESCRIPTION:https://www.uni-marburg.de/de/cnms/aktuelles/termine/palestine
 -the-vocal-complicity-in-the-silence-of-academics\n
LAST-MODIFIED:20230425T140138Z
LOCATION:Marburg\, CNMS\, Hörsaal
URL:https://www.uni-marburg.de/de/cnms/aktuelles/termine/palestine-the-voc
 al-complicity-in-the-silence-of-academics
END:VEVENT
BEGIN:VTIMEZONE
TZID:Europe/Berlin
X-LIC-LOCATION:Europe/Berlin
BEGIN:DAYLIGHT
DTSTART:20230326T030000
TZNAME:CEST
TZOFFSETFROM:+0100
TZOFFSETTO:+0200
END:DAYLIGHT
END:VTIMEZONE
END:VCALENDAR
