BEGIN:VCALENDAR
VERSION:2.0
PRODID:-//Plone.org//NONSGML plone.app.event//EN
X-WR-TIMEZONE:Europe/Berlin
BEGIN:VEVENT
SUMMARY:Prof. Dr. Oliver Schlumberger: Patrimonialer Kapitalismus\, Rente 
 und Entwicklung
DTSTART;TZID=Europe/Berlin:20221110T180000
DTEND;TZID=Europe/Berlin:20221110T200000
DTSTAMP:20260421T133335Z
UID:c143ae1a2abb42f69e862b2e50bf52a1@www.uni-marburg.de
ATTENDEE;CN="Prof. Dr. Oliver Schlumberger";ROLE=REQ-PARTICIPANT:Prof. Dr.
  Oliver Schlumberger
CREATED:20220923T111435Z
DESCRIPTION:https://www.uni-marburg.de/de/cnms/aktuelles/termine/patrimoni
 aler-kapitalismus-rente-und-entwicklung\nRingvorlesung Extractivism
LAST-MODIFIED:20221012T111944Z
LOCATION:Marburg\, CNMS-Hörsaal\, 00A26
URL:https://www.uni-marburg.de/de/cnms/aktuelles/termine/patrimonialer-kap
 italismus-rente-und-entwicklung
END:VEVENT
BEGIN:VTIMEZONE
TZID:Europe/Berlin
X-LIC-LOCATION:Europe/Berlin
BEGIN:STANDARD
DTSTART:20221030T020000
TZNAME:CET
TZOFFSETFROM:+0200
TZOFFSETTO:+0100
END:STANDARD
END:VTIMEZONE
END:VCALENDAR
