BEGIN:VCALENDAR
VERSION:2.0
PRODID:-//Plone.org//NONSGML plone.app.event//EN
X-WR-TIMEZONE:Europe/Berlin
BEGIN:VEVENT
SUMMARY:Prof. Dr. Martin Beck: Petrolismus im Nahen Osten
DTSTART;TZID=Europe/Berlin:20221124T180000
DTEND;TZID=Europe/Berlin:20221124T200000
DTSTAMP:20260420T071606Z
UID:b0348f6fe13d4a9b9ba954e8ff26b8a7@www.uni-marburg.de
ATTENDEE;CN="Prof. Dr. Martin Beck";ROLE=REQ-PARTICIPANT:Prof. Dr. Martin 
 Beck
CREATED:20220923T112257Z
DESCRIPTION:https://www.uni-marburg.de/de/cnms/aktuelles/termine/petrolism
 us-im-nahen-osten\nRingvorlesung Extractivism
LAST-MODIFIED:20221122T104448Z
LOCATION:Gießhaus der Universität Kassel
URL:https://www.uni-marburg.de/de/cnms/aktuelles/termine/petrolismus-im-na
 hen-osten
END:VEVENT
BEGIN:VTIMEZONE
TZID:Europe/Berlin
X-LIC-LOCATION:Europe/Berlin
BEGIN:STANDARD
DTSTART:20221030T020000
TZNAME:CET
TZOFFSETFROM:+0200
TZOFFSETTO:+0100
END:STANDARD
END:VTIMEZONE
END:VCALENDAR
