BEGIN:VCALENDAR
VERSION:2.0
PRODID:-//Plone.org//NONSGML plone.app.event//EN
X-WR-TIMEZONE:Europe/Berlin
BEGIN:VEVENT
SUMMARY:Politikberatung im Alten Orient oder Von Sinn und Unsinn der Progn
 ostik
DTSTART;TZID=Europe/Berlin:20180508T181500
DTEND;TZID=Europe/Berlin:20180508T200000
DTSTAMP:20260421T231715Z
UID:b3ea352f1fff4912a6cbec7c0f83df5d@www.uni-marburg.de
ATTENDEE;CN="Prof. Dr. Dr. h.c. Stefan Maul";ROLE=REQ-PARTICIPANT:Prof. Dr
 . Dr. h.c. Stefan Maul
CREATED:20180503T183726Z
DESCRIPTION:https://www.uni-marburg.de/de/cnms/aktuelles/termine/politikbe
 ratung-im-alten-orient-oder-von-sinn-und-unsinn-der-prognostik\nProf. Dr. 
 Dr. h.c. Stefan Maul\, Universität Heidelberg
LAST-MODIFIED:20180504T092215Z
LOCATION:CNMS\, Deutschhausstr. 12\, Hörsaal 00A26
URL:https://www.uni-marburg.de/de/cnms/aktuelles/termine/politikberatung-i
 m-alten-orient-oder-von-sinn-und-unsinn-der-prognostik
END:VEVENT
BEGIN:VTIMEZONE
TZID:Europe/Berlin
X-LIC-LOCATION:Europe/Berlin
BEGIN:DAYLIGHT
DTSTART:20180325T030000
TZNAME:CEST
TZOFFSETFROM:+0100
TZOFFSETTO:+0200
END:DAYLIGHT
END:VTIMEZONE
END:VCALENDAR
