BEGIN:VCALENDAR
VERSION:2.0
PRODID:-//Plone.org//NONSGML plone.app.event//EN
X-WR-TIMEZONE:Europe/Berlin
BEGIN:VEVENT
SUMMARY:Prof. Dr. Hans-Jürgen Burchardt: 500 Jahre Verflechtung zwischen 
 Lateinamerika und Europa
DTSTART;TZID=Europe/Berlin:20221020T180000
DTEND;TZID=Europe/Berlin:20221020T200000
DTSTAMP:20260425T201635Z
UID:98fc75febaba451a82c87df0448d5437@www.uni-marburg.de
CREATED:20220922T111619Z
DESCRIPTION:https://www.uni-marburg.de/de/cnms/aktuelles/termine/prof-dr-h
 ans-juergen-burchardt-500-jahre-verflechtung-zwischen-lateinamerika-und-eu
 ropa\nRingvorlesung Extractivism: Klimawandel und Rohstoffe zwischen Risik
 o und Chance
LAST-MODIFIED:20220923T113818Z
LOCATION:Kassel
URL:https://www.uni-marburg.de/de/cnms/aktuelles/termine/prof-dr-hans-juer
 gen-burchardt-500-jahre-verflechtung-zwischen-lateinamerika-und-europa
END:VEVENT
BEGIN:VTIMEZONE
TZID:Europe/Berlin
X-LIC-LOCATION:Europe/Berlin
BEGIN:DAYLIGHT
DTSTART:20220327T030000
TZNAME:CEST
TZOFFSETFROM:+0100
TZOFFSETTO:+0200
END:DAYLIGHT
END:VTIMEZONE
END:VCALENDAR
