BEGIN:VCALENDAR
VERSION:2.0
PRODID:-//Plone.org//NONSGML plone.app.event//EN
X-WR-TIMEZONE:Europe/Berlin
BEGIN:VEVENT
SUMMARY:Prof. Dr. Janet Watson (Leeds):  The effects of language and cultu
 re loss in southern Arabia
DTSTART;TZID=Europe/Berlin:20251202T180000
DTEND;TZID=Europe/Berlin:20251202T200000
DTSTAMP:20260424T184913Z
UID:463a6cd9ffdb4d75bc97aa928ae2dec1@www.uni-marburg.de
ATTENDEE;CN="Prof. Dr. Janet Watson (Leeds)";ROLE=REQ-PARTICIPANT:Prof. Dr
 . Janet Watson (Leeds)
CATEGORIES:()
CREATED:20251107T123433Z
DESCRIPTION:https://www.uni-marburg.de/de/cnms/aktuelles/termine/prof-dr-j
 anet-watson-leeds-the-effects-of-language-and-culture-loss-in-southern-ara
 bia\n
LAST-MODIFIED:20251202T103622Z
LOCATION:00A26\, CNMS\, Deutschhausstraße 12
URL:https://www.uni-marburg.de/de/cnms/aktuelles/termine/prof-dr-janet-wat
 son-leeds-the-effects-of-language-and-culture-loss-in-southern-arabia
END:VEVENT
BEGIN:VTIMEZONE
TZID:Europe/Berlin
X-LIC-LOCATION:Europe/Berlin
BEGIN:STANDARD
DTSTART:20251026T020000
TZNAME:CET
TZOFFSETFROM:+0200
TZOFFSETTO:+0100
END:STANDARD
END:VTIMEZONE
END:VCALENDAR
