BEGIN:VCALENDAR
VERSION:2.0
PRODID:-//Plone.org//NONSGML plone.app.event//EN
X-WR-TIMEZONE:Europe/Berlin
BEGIN:VEVENT
SUMMARY:Radikalisierungsprävention gegen Islamismus. Die Arbeit von Viole
 nce Prevention Network in Hessen
DTSTART;TZID=Europe/Berlin:20220201T141500
DTEND;TZID=Europe/Berlin:20220201T154500
DTSTAMP:20260424T225618Z
UID:31a4e84bffc6471b8612e3ef81418dbb@www.uni-marburg.de
ATTENDEE;CN="Fatih Isik";ROLE=REQ-PARTICIPANT:Fatih Isik
CREATED:20220201T120953Z
DESCRIPTION:https://www.uni-marburg.de/de/cnms/aktuelles/termine/radikalis
 ierungspraevention-gegen-islamismus-die-arbeit-von-violence-prevention-net
 work-in-hessen\nFatih Isik: Radikalisierungsprävention gegen Islamismus. 
 Die Arbeit von Violence Prevention Network in Hessen
LAST-MODIFIED:20220201T121001Z
LOCATION:CNMS Hörsaal (Raum 00A26)
URL:https://www.uni-marburg.de/de/cnms/aktuelles/termine/radikalisierungsp
 raevention-gegen-islamismus-die-arbeit-von-violence-prevention-network-in-
 hessen
END:VEVENT
BEGIN:VTIMEZONE
TZID:Europe/Berlin
X-LIC-LOCATION:Europe/Berlin
BEGIN:STANDARD
DTSTART:20211031T020000
TZNAME:CET
TZOFFSETFROM:+0200
TZOFFSETTO:+0100
END:STANDARD
END:VTIMEZONE
END:VCALENDAR
