BEGIN:VCALENDAR
VERSION:2.0
PRODID:-//Plone.org//NONSGML plone.app.event//EN
X-WR-TIMEZONE:Europe/Berlin
BEGIN:VEVENT
SUMMARY:Re-Konfigurationen Abschlusstagung
DTSTART;TZID=Europe/Berlin:20181114T160000
DTEND;TZID=Europe/Berlin:20181116T193000
DTSTAMP:20260419T163234Z
UID:3abd803c1e674941b6b801f10a35b018@www.uni-marburg.de
CREATED:20181105T163110Z
DESCRIPTION:https://www.uni-marburg.de/de/cnms/aktuelles/termine/re-konfig
 urationen-abschlusstagung\n
LAST-MODIFIED:20181105T173251Z
LOCATION:Altes Rathaus\, Marburg
URL:https://www.uni-marburg.de/de/cnms/aktuelles/termine/re-konfiguratione
 n-abschlusstagung
END:VEVENT
BEGIN:VTIMEZONE
TZID:Europe/Berlin
X-LIC-LOCATION:Europe/Berlin
BEGIN:STANDARD
DTSTART:20181028T020000
TZNAME:CET
TZOFFSETFROM:+0200
TZOFFSETTO:+0100
END:STANDARD
END:VTIMEZONE
END:VCALENDAR
