BEGIN:VCALENDAR
VERSION:2.0
PRODID:-//Plone.org//NONSGML plone.app.event//EN
X-WR-TIMEZONE:Europe/Berlin
BEGIN:VEVENT
SUMMARY:Representation Missing? The Holocaust in Romanian cinema and telev
 ision
DTSTART;TZID=Europe/Berlin:20240603T180000
DTEND;TZID=Europe/Berlin:20240603T200000
DTSTAMP:20260420T135453Z
UID:94d366d56efe4d11a9340db78773d23a@www.uni-marburg.de
ATTENDEE;CN="Prof. Dr. Raluca Moldovan - Babes-Bolyai University Cluj Napo
 ca ";ROLE=REQ-PARTICIPANT:Prof. Dr. Raluca Moldovan - Babes-Bolyai Univers
 ity Cluj Napoca 
CREATED:20240416T125529Z
DESCRIPTION:https://www.uni-marburg.de/de/cnms/aktuelles/termine/represent
 ation-missing-the-holocaust-in-romanian-cinema-and-television\nERASMUS tea
 ching mobility
LAST-MODIFIED:20240416T125537Z
LOCATION:CNMS 00A09
URL:https://www.uni-marburg.de/de/cnms/aktuelles/termine/representation-mi
 ssing-the-holocaust-in-romanian-cinema-and-television
END:VEVENT
BEGIN:VTIMEZONE
TZID:Europe/Berlin
X-LIC-LOCATION:Europe/Berlin
BEGIN:DAYLIGHT
DTSTART:20240331T030000
TZNAME:CEST
TZOFFSETFROM:+0100
TZOFFSETTO:+0200
END:DAYLIGHT
END:VTIMEZONE
END:VCALENDAR
