BEGIN:VCALENDAR
VERSION:2.0
PRODID:-//Plone.org//NONSGML plone.app.event//EN
X-WR-TIMEZONE:Europe/Berlin
BEGIN:VEVENT
SUMMARY:Roundtable zu gesellschaftlicher Relevanz von Religion in Deutschl
 and
DTSTART;TZID=Europe/Berlin:20220420T201500
DTEND;TZID=Europe/Berlin:20220420T211500
DTSTAMP:20260424T081244Z
UID:8479c3fbac7f4b9f88dc6c3b2923e898@www.uni-marburg.de
CREATED:20220413T161305Z
DESCRIPTION:https://www.uni-marburg.de/de/cnms/aktuelles/termine/roundtabl
 e-zu-gesellschaftlicher-relevanz-von-religion-in-deutschland\n
LAST-MODIFIED:20220413T172916Z
LOCATION:Universitätsbibliothek
URL:https://www.uni-marburg.de/de/cnms/aktuelles/termine/roundtable-zu-ges
 ellschaftlicher-relevanz-von-religion-in-deutschland
END:VEVENT
BEGIN:VTIMEZONE
TZID:Europe/Berlin
X-LIC-LOCATION:Europe/Berlin
BEGIN:DAYLIGHT
DTSTART:20220327T030000
TZNAME:CEST
TZOFFSETFROM:+0100
TZOFFSETTO:+0200
END:DAYLIGHT
END:VTIMEZONE
END:VCALENDAR
