BEGIN:VCALENDAR
VERSION:2.0
PRODID:-//Plone.org//NONSGML plone.app.event//EN
X-WR-TIMEZONE:Europe/Berlin
BEGIN:VEVENT
SUMMARY:Sanctuary\, Refuge\, and Displacement in the Maghrib during the Re
 conquista
DTSTART;TZID=Europe/Berlin:20180517T180000
DTEND;TZID=Europe/Berlin:20180517T200000
DTSTAMP:20260424T142416Z
UID:a7147594fced4ea987b0d34dea2eff69@www.uni-marburg.de
ATTENDEE;CN="Camilo Gomez-Rivas, Santa Cruz/Marburg";ROLE=REQ-PARTICIPANT:
 Camilo Gomez-Rivas, Santa Cruz/Marburg
CREATED:20180503T184927Z
DESCRIPTION:https://www.uni-marburg.de/de/cnms/aktuelles/termine/sanctuary
 -refuge-and-displacement-in-the-maghrib-during-the-reconquista\nVortrag vo
 n Camilo Gomez-Rivas im Rahmen der Vortragsreihe "The Early Modern Middle 
 East" Sommersemester 2018
LAST-MODIFIED:20180503T185001Z
LOCATION:CNMS\, Deutschhausstr. 12\, Hörsaal 00A26
URL:https://www.uni-marburg.de/de/cnms/aktuelles/termine/sanctuary-refuge-
 and-displacement-in-the-maghrib-during-the-reconquista
END:VEVENT
BEGIN:VTIMEZONE
TZID:Europe/Berlin
X-LIC-LOCATION:Europe/Berlin
BEGIN:DAYLIGHT
DTSTART:20180325T030000
TZNAME:CEST
TZOFFSETFROM:+0100
TZOFFSETTO:+0200
END:DAYLIGHT
END:VTIMEZONE
END:VCALENDAR
