BEGIN:VCALENDAR
VERSION:2.0
PRODID:-//Plone.org//NONSGML plone.app.event//EN
X-WR-TIMEZONE:Europe/Berlin
BEGIN:VEVENT
SUMMARY:Schlusskonferenz DAAD Taziz Projekt „Dealing with Material Cultu
 re in the Eastern Mediteranean“
DTSTART;TZID=Europe/Berlin:20251217T180000
DTEND;TZID=Europe/Berlin:20251220T200000
DTSTAMP:20260425T033726Z
UID:a8ae7f7357074ffa853afed911aee28f@www.uni-marburg.de
CATEGORIES:()
CREATED:20251027T112201Z
DESCRIPTION:https://www.uni-marburg.de/de/cnms/aktuelles/termine/schlussko
 nferenz-daad-taziz-projekt-dealing-with-material-culture-in-the-eastern-me
 diteranean\n
LAST-MODIFIED:20251202T112906Z
LOCATION:CNMS\, Deutschhausstraße 12
URL:https://www.uni-marburg.de/de/cnms/aktuelles/termine/schlusskonferenz-
 daad-taziz-projekt-dealing-with-material-culture-in-the-eastern-mediterane
 an
END:VEVENT
BEGIN:VTIMEZONE
TZID:Europe/Berlin
X-LIC-LOCATION:Europe/Berlin
BEGIN:STANDARD
DTSTART:20251026T020000
TZNAME:CET
TZOFFSETFROM:+0200
TZOFFSETTO:+0100
END:STANDARD
END:VTIMEZONE
END:VCALENDAR
