BEGIN:VCALENDAR
VERSION:2.0
PRODID:-//Plone.org//NONSGML plone.app.event//EN
X-WR-TIMEZONE:Europe/Berlin
BEGIN:VEVENT
SUMMARY:("Schreiben im Exil"\, Vortrag auf Arabisch) الكتابة في 
 المنفى
DTSTART;TZID=Europe/Berlin:20190207T180000
DTEND;TZID=Europe/Berlin:20190207T200000
DTSTAMP:20260425T131212Z
UID:ed29017aeb40432db6fed23902349348@www.uni-marburg.de
ATTENDEE;CN="Yassin al-Haj Saleh";ROLE=REQ-PARTICIPANT:Yassin al-Haj Saleh
CREATED:20190122T133642Z
DESCRIPTION:https://www.uni-marburg.de/de/cnms/aktuelles/termine/schreiben
 -im-exil-vortrag-auf-arabisch-62764464362a627628629-64164a-627644645646641
 649\n
LAST-MODIFIED:20190205T142244Z
LOCATION:Casino\, CNMS\, III. Stock
URL:https://www.uni-marburg.de/de/cnms/aktuelles/termine/schreiben-im-exil
 -vortrag-auf-arabisch-62764464362a627628629-64164a-627644645646641649
END:VEVENT
BEGIN:VTIMEZONE
TZID:Europe/Berlin
X-LIC-LOCATION:Europe/Berlin
BEGIN:STANDARD
DTSTART:20181028T020000
TZNAME:CET
TZOFFSETFROM:+0200
TZOFFSETTO:+0100
END:STANDARD
END:VTIMEZONE
END:VCALENDAR
