BEGIN:VCALENDAR
VERSION:2.0
PRODID:-//Plone.org//NONSGML plone.app.event//EN
X-WR-TIMEZONE:Europe/Berlin
BEGIN:VEVENT
SUMMARY:Seine Sprache war fremd\, niemand verstand seine Rede. Indirekte S
 prachzeugnisse im Alten Orient
DTSTART;TZID=Europe/Berlin:20231026T180000
DTEND;TZID=Europe/Berlin:20231026T200000
DTSTAMP:20260425T001722Z
UID:d5dfd56d25fe4a109a99b7d82a2d8d61@www.uni-marburg.de
ATTENDEE;CN="Prof. Dr. Michael P. Streck (Leipzig)";ROLE=REQ-PARTICIPANT:P
 rof. Dr. Michael P. Streck (Leipzig)
CREATED:20231004T095338Z
DESCRIPTION:https://www.uni-marburg.de/de/cnms/aktuelles/termine/seine-spr
 ache-war-fremd-niemand-verstand-seine-rede-indirekte-sprachzeugnisse-im-al
 ten-orient\n
LAST-MODIFIED:20231004T095444Z
LOCATION:CNMS\, Hörsaal 00A26\, Deutschhausstraße 12
URL:https://www.uni-marburg.de/de/cnms/aktuelles/termine/seine-sprache-war
 -fremd-niemand-verstand-seine-rede-indirekte-sprachzeugnisse-im-alten-orie
 nt
END:VEVENT
BEGIN:VTIMEZONE
TZID:Europe/Berlin
X-LIC-LOCATION:Europe/Berlin
BEGIN:DAYLIGHT
DTSTART:20230326T030000
TZNAME:CEST
TZOFFSETFROM:+0100
TZOFFSETTO:+0200
END:DAYLIGHT
END:VTIMEZONE
END:VCALENDAR
