BEGIN:VCALENDAR
VERSION:2.0
PRODID:-//Plone.org//NONSGML plone.app.event//EN
X-WR-TIMEZONE:Europe/Berlin
BEGIN:VEVENT
SUMMARY:Society of the Upper Zarafshan Valley in the Light of New Written 
 Texts
DTSTART;TZID=Europe/Berlin:20250527T180000
DTEND;TZID=Europe/Berlin:20250527T200000
DTSTAMP:20260424T225124Z
UID:1d3b5b20b94442859851e35b20dc6177@www.uni-marburg.de
ATTENDEE;CN="Dr. Pavel Lurje";ROLE=REQ-PARTICIPANT:Dr. Pavel Lurje
CREATED:20250414T112607Z
DESCRIPTION:https://www.uni-marburg.de/de/cnms/aktuelles/termine/society-o
 f-the-upper-zarafshan-valley-in-the-light-of-new-written-texts\nIranistik
LAST-MODIFIED:20250414T112618Z
LOCATION:CNMS Hörsaal 00A26
URL:https://www.uni-marburg.de/de/cnms/aktuelles/termine/society-of-the-up
 per-zarafshan-valley-in-the-light-of-new-written-texts
END:VEVENT
BEGIN:VTIMEZONE
TZID:Europe/Berlin
X-LIC-LOCATION:Europe/Berlin
BEGIN:DAYLIGHT
DTSTART:20250330T030000
TZNAME:CEST
TZOFFSETFROM:+0100
TZOFFSETTO:+0200
END:DAYLIGHT
END:VTIMEZONE
END:VCALENDAR
