BEGIN:VCALENDAR
VERSION:2.0
PRODID:-//Plone.org//NONSGML plone.app.event//EN
X-WR-TIMEZONE:Europe/Berlin
BEGIN:VEVENT
SUMMARY:The Criticism of the Intellectual in Contemporary Arab Thought
DTSTART;TZID=Europe/Berlin:20180604T141500
DTEND;TZID=Europe/Berlin:20180604T160000
DTSTAMP:20260426T021812Z
UID:e9d3b51080b94a3c81a87c9cf184067d@www.uni-marburg.de
CREATED:20180515T174819Z
DESCRIPTION:https://www.uni-marburg.de/de/cnms/aktuelles/termine/souad-tmi
 mi-doktorandin-an-der-uni-sousse-the-criticism-of-the-intellectual-in-cont
 emporary-arab-thought\nVortrag von Souad Etmimi (Faculty of Arts and Human
 ities of Sousse\, Tunisia )\, Doktorandin zur Recherche in Marburg\, im Ra
 hmen des CNMS-Kolloqiums
LAST-MODIFIED:20180522T133934Z
LOCATION:CNMS\, Deutschhausstraße 12\, Raum 00A02
URL:https://www.uni-marburg.de/de/cnms/aktuelles/termine/souad-tmimi-dokto
 randin-an-der-uni-sousse-the-criticism-of-the-intellectual-in-contemporary
 -arab-thought
END:VEVENT
BEGIN:VTIMEZONE
TZID:Europe/Berlin
X-LIC-LOCATION:Europe/Berlin
BEGIN:DAYLIGHT
DTSTART:20180325T030000
TZNAME:CEST
TZOFFSETFROM:+0100
TZOFFSETTO:+0200
END:DAYLIGHT
END:VTIMEZONE
END:VCALENDAR
