BEGIN:VCALENDAR
VERSION:2.0
PRODID:-//Plone.org//NONSGML plone.app.event//EN
X-WR-TIMEZONE:Europe/Berlin
BEGIN:VEVENT
SUMMARY:Spracherhalten und Migration: Ethnolinguistische Forschungen in un
 d um Afghanistan
DTSTART;TZID=Europe/Berlin:20220602T181500
DTEND;TZID=Europe/Berlin:20220602T200000
DTSTAMP:20260425T140615Z
UID:49214a6991754f328b7da6b0d82cdae9@www.uni-marburg.de
ATTENDEE;CN="Dr. Lutz Rzehak (HU Berlin)";ROLE=REQ-PARTICIPANT:Dr. Lutz Rz
 ehak (HU Berlin)
CREATED:20220413T164604Z
DESCRIPTION:https://www.uni-marburg.de/de/cnms/aktuelles/termine/spracherh
 alten-und-migration-ethnolinguistische-forschungen-in-und-um-afghanistan\n
LAST-MODIFIED:20220413T164622Z
LOCATION:digital
URL:https://www.uni-marburg.de/de/cnms/aktuelles/termine/spracherhalten-un
 d-migration-ethnolinguistische-forschungen-in-und-um-afghanistan
END:VEVENT
BEGIN:VTIMEZONE
TZID:Europe/Berlin
X-LIC-LOCATION:Europe/Berlin
BEGIN:DAYLIGHT
DTSTART:20220327T030000
TZNAME:CEST
TZOFFSETFROM:+0100
TZOFFSETTO:+0200
END:DAYLIGHT
END:VTIMEZONE
END:VCALENDAR
