BEGIN:VCALENDAR
VERSION:2.0
PRODID:-//Plone.org//NONSGML plone.app.event//EN
X-WR-TIMEZONE:Europe/Berlin
BEGIN:VEVENT
SUMMARY:Start-up-Gründung: Ramtin‘s Journey from Marburg to the Middle 
 East
DTSTART;TZID=Europe/Berlin:20220203T181500
DTSTAMP:20260424T144701Z
UID:8066626284c14f1ea5ade866a611e476@www.uni-marburg.de
ATTENDEE;CN="Ramtin Randjbar-Moshtaghin";ROLE=REQ-PARTICIPANT:Ramtin Randj
 bar-Moshtaghin
CREATED:20220201T121221Z
DESCRIPTION:https://www.uni-marburg.de/de/cnms/aktuelles/termine/start-up-
 gruendung-ramtin-s-journey-from-marburg-to-the-middle-east\nAlumnus: Ramti
 n Randjbar-Moshtaghin\, Zonama Food GmbH\, zum Thema Start-up-Gründung: R
 amtin‘s Journey from Marburg to the Middle East
LAST-MODIFIED:20220201T121231Z
LOCATION:digital: https://webconf.hrz.uni-marburg.de/b/les-7ht-xcf-l6c
URL:https://www.uni-marburg.de/de/cnms/aktuelles/termine/start-up-gruendun
 g-ramtin-s-journey-from-marburg-to-the-middle-east
END:VEVENT
BEGIN:VTIMEZONE
TZID:Europe/Berlin
X-LIC-LOCATION:Europe/Berlin
BEGIN:STANDARD
DTSTART:20211031T020000
TZNAME:CET
TZOFFSETFROM:+0200
TZOFFSETTO:+0100
END:STANDARD
END:VTIMEZONE
END:VCALENDAR
