BEGIN:VCALENDAR
VERSION:2.0
PRODID:-//Plone.org//NONSGML plone.app.event//EN
X-WR-TIMEZONE:Europe/Berlin
BEGIN:VEVENT
SUMMARY:Teach-in zu den Wahlen in der Türkei
DTSTART;TZID=Europe/Berlin:20180621T200000
DTEND;TZID=Europe/Berlin:20180621T220000
DTSTAMP:20260423T000337Z
UID:55acb6e76a5d4c33b70d2eb65abdd4e0@www.uni-marburg.de
CREATED:20180615T140015Z
DESCRIPTION:https://www.uni-marburg.de/de/cnms/aktuelles/termine/teach-in-
 zu-den-wahlen-in-der-tuerkei\nDie Parlaments- und Präsidentschaftswahlen 
 in der Türkei. Was steht auf dem Spiel? Was wird sich ändern?
LAST-MODIFIED:20180615T140050Z
LOCATION:CNMS\, Deutschhausstr.12\, Raum 00A03
URL:https://www.uni-marburg.de/de/cnms/aktuelles/termine/teach-in-zu-den-w
 ahlen-in-der-tuerkei
END:VEVENT
BEGIN:VTIMEZONE
TZID:Europe/Berlin
X-LIC-LOCATION:Europe/Berlin
BEGIN:DAYLIGHT
DTSTART:20180325T030000
TZNAME:CEST
TZOFFSETFROM:+0100
TZOFFSETTO:+0200
END:DAYLIGHT
END:VTIMEZONE
END:VCALENDAR
