BEGIN:VCALENDAR
VERSION:2.0
PRODID:-//Plone.org//NONSGML plone.app.event//EN
X-WR-TIMEZONE:Europe/Berlin
BEGIN:VEVENT
SUMMARY:Teaching and research in Baghdad. The situation of Academics 2019
DTSTART;TZID=Europe/Berlin:20190703T181500
DTEND;TZID=Europe/Berlin:20190703T200000
DTSTAMP:20260424T131808Z
UID:42fb2492ef084f11a5590cd9c6d43c6f@www.uni-marburg.de
CREATED:20190613T185653Z
DESCRIPTION:https://www.uni-marburg.de/de/cnms/aktuelles/termine/teaching-
 and-research-in-bagdad-the-situation-of-academics-2018\nVortrag von Assist
 . Prof. Bahaa Mahmood Alwan (Baghdad Uni\, Head of Department of German La
 nguage\, College of Languages) und Assist. Prof. Dr. Laith M. Hussein (Bag
 hdad Uni\, Head of Department of Archaeology\, College of Arts
LAST-MODIFIED:20190703T082822Z
LOCATION:Centrum für Nah- und Mittelost-Studien\, Deutschhausstraße 12\,
  Raum 00A026 (Hörsaal)
URL:https://www.uni-marburg.de/de/cnms/aktuelles/termine/teaching-and-rese
 arch-in-bagdad-the-situation-of-academics-2018
END:VEVENT
BEGIN:VTIMEZONE
TZID:Europe/Berlin
X-LIC-LOCATION:Europe/Berlin
BEGIN:DAYLIGHT
DTSTART:20190331T030000
TZNAME:CEST
TZOFFSETFROM:+0100
TZOFFSETTO:+0200
END:DAYLIGHT
END:VTIMEZONE
END:VCALENDAR
