BEGIN:VCALENDAR
VERSION:2.0
PRODID:-//Plone.org//NONSGML plone.app.event//EN
X-WR-TIMEZONE:Europe/Berlin
BEGIN:VEVENT
SUMMARY:The Changing Fortunes of Qingu
DTSTART;TZID=Europe/Berlin:20231212T180000
DTEND;TZID=Europe/Berlin:20231212T200000
DTSTAMP:20260421T165352Z
UID:ab7071ee75114501bb2d849e00eb0eee@www.uni-marburg.de
ATTENDEE;CN="Prof. Dr. Frances Reynolds";ROLE=REQ-PARTICIPANT:Prof. Dr. Fr
 ances Reynolds
CREATED:20231005T090909Z
DESCRIPTION:https://www.uni-marburg.de/de/cnms/aktuelles/termine/the-chang
 ing-fortunes-of-qingu\n
LAST-MODIFIED:20231005T090920Z
LOCATION:CNMS\, Hörsaal 00A26\, Deutschhausstraße 12
URL:https://www.uni-marburg.de/de/cnms/aktuelles/termine/the-changing-fort
 unes-of-qingu
END:VEVENT
BEGIN:VTIMEZONE
TZID:Europe/Berlin
X-LIC-LOCATION:Europe/Berlin
BEGIN:STANDARD
DTSTART:20231029T020000
TZNAME:CET
TZOFFSETFROM:+0200
TZOFFSETTO:+0100
END:STANDARD
END:VTIMEZONE
END:VCALENDAR
