BEGIN:VCALENDAR
VERSION:2.0
PRODID:-//Plone.org//NONSGML plone.app.event//EN
X-WR-TIMEZONE:Europe/Berlin
BEGIN:VEVENT
SUMMARY:The Neo-Aramaic Language Turoyo in Turkey: The Results of Recent F
 ieldwork
DTSTART;TZID=Europe/Berlin:20190502T181500
DTEND;TZID=Europe/Berlin:20190502T194500
DTSTAMP:20260424T190145Z
UID:3b205b05f42a440c857edbfa06c201e5@www.uni-marburg.de
CREATED:20190322T025755Z
DESCRIPTION:https://www.uni-marburg.de/de/cnms/aktuelles/termine/the-neo-a
 ramaic-language-turoyo-in-turkey-the-results-of-recent-fieldwork\nDr. Yuli
 a Furman\, Humboldt-Stipendiatin der Freien Universität Berlin
LAST-MODIFIED:20190322T025810Z
LOCATION:Centrum für Nah- und Mittelost-Studien\, Deutschhausstraße 12\,
  Raum 00A026 (Hörsaal)
URL:https://www.uni-marburg.de/de/cnms/aktuelles/termine/the-neo-aramaic-l
 anguage-turoyo-in-turkey-the-results-of-recent-fieldwork
END:VEVENT
BEGIN:VTIMEZONE
TZID:Europe/Berlin
X-LIC-LOCATION:Europe/Berlin
BEGIN:DAYLIGHT
DTSTART:20190331T030000
TZNAME:CEST
TZOFFSETFROM:+0100
TZOFFSETTO:+0200
END:DAYLIGHT
END:VTIMEZONE
END:VCALENDAR
