BEGIN:VCALENDAR
VERSION:2.0
PRODID:-//Plone.org//NONSGML plone.app.event//EN
X-WR-TIMEZONE:Europe/Berlin
BEGIN:VEVENT
SUMMARY:The Politics of Jihad in Early Crusading Period among the Turkmen 
 and Kurds
DTSTART;TZID=Europe/Berlin:20220224T170000
DTSTAMP:20260426T000230Z
UID:bbe42650f0f7450fbb11a57375cdc235@www.uni-marburg.de
ATTENDEE;CN="Prof. Dr. Taef El-Azhari";ROLE=REQ-PARTICIPANT:Prof. Dr. Taef
  El-Azhari
CREATED:20220201T121504Z
DESCRIPTION:https://www.uni-marburg.de/de/cnms/aktuelles/termine/the-polit
 ics-of-jihad-in-early-crusading-period-among-the-turkmen-and-kurds\nProf. 
 Dr. Taef El-Azhari\, Helwan University\, Cairo: The Politics of Jihad in E
 arly Crusading Period among the Turkmen and Kurds
LAST-MODIFIED:20220201T121509Z
LOCATION:digital
URL:https://www.uni-marburg.de/de/cnms/aktuelles/termine/the-politics-of-j
 ihad-in-early-crusading-period-among-the-turkmen-and-kurds
END:VEVENT
BEGIN:VTIMEZONE
TZID:Europe/Berlin
X-LIC-LOCATION:Europe/Berlin
BEGIN:STANDARD
DTSTART:20211031T020000
TZNAME:CET
TZOFFSETFROM:+0200
TZOFFSETTO:+0100
END:STANDARD
END:VTIMEZONE
END:VCALENDAR
