BEGIN:VCALENDAR
VERSION:2.0
PRODID:-//Plone.org//NONSGML plone.app.event//EN
X-WR-TIMEZONE:Europe/Berlin
BEGIN:VEVENT
SUMMARY:The Wing or the Thigh: Some remarks on the administration of anima
 l sacrifice in northern Mesopotamia (2nd-1st millennium BC)
DTSTART;TZID=Europe/Berlin:20240618T180000
DTEND;TZID=Europe/Berlin:20240618T200000
DTSTAMP:20260426T001904Z
UID:5d68b918d30c4763961a5ef1481dbb1b@www.uni-marburg.de
ATTENDEE;CN="Lionel Marti";ROLE=REQ-PARTICIPANT:Lionel Marti
CREATED:20240606T132122Z
DESCRIPTION:https://www.uni-marburg.de/de/cnms/aktuelles/termine/the-wing-
 or-the-thigh-some-remarks-on-the-administration-of-animal-sacrifice-in-nor
 thern-mesopotamia-2nd-1st-millennium-bc\nGastvortrag Altorientalistik
LAST-MODIFIED:20240606T132129Z
LOCATION:CNMS Hörsaal 00A26
URL:https://www.uni-marburg.de/de/cnms/aktuelles/termine/the-wing-or-the-t
 high-some-remarks-on-the-administration-of-animal-sacrifice-in-northern-me
 sopotamia-2nd-1st-millennium-bc
END:VEVENT
BEGIN:VTIMEZONE
TZID:Europe/Berlin
X-LIC-LOCATION:Europe/Berlin
BEGIN:DAYLIGHT
DTSTART:20240331T030000
TZNAME:CEST
TZOFFSETFROM:+0100
TZOFFSETTO:+0200
END:DAYLIGHT
END:VTIMEZONE
END:VCALENDAR
