BEGIN:VCALENDAR
VERSION:2.0
PRODID:-//Plone.org//NONSGML plone.app.event//EN
X-WR-TIMEZONE:Europe/Berlin
BEGIN:VEVENT
SUMMARY:„Umsonst habt ihr empfangen\, umsonst sollt ihr geben.“ Christ
 liche Ärzte in der Spätantike
DTSTART;TZID=Europe/Berlin:20220124T180000
DTEND;TZID=Europe/Berlin:20220124T200000
DTSTAMP:20260426T013310Z
UID:585e81fec6cd48f7bb90f2ea747c5bf0@www.uni-marburg.de
ATTENDEE;CN="Prof. Dr. Karl Pinggéra (Kirchengeschichte, Philipps-Univers
 ität Marburg) ";ROLE=REQ-PARTICIPANT:Prof. Dr. Karl Pinggéra (Kirchenges
 chichte, Philipps-Universität Marburg) 
CREATED:20211101T123135Z
DESCRIPTION:https://www.uni-marburg.de/de/cnms/aktuelles/termine/umsonst-h
 abt-ihr-empfangen-umsonst-sollt-ihr-geben-christliche-aerzte-in-der-spaeta
 ntike\nDie Ringvorlesung des "Marburger Centrum(s) für Antike Welt" wird 
 im Wintersemester 2021/22 unter dem Hashtag #StayingAliveAntiquity untersc
 hiedliche Referentinnen und Referenten zum übergeordneten Thema "Gesundhe
 it und Krankheit im Altertum" zu Wort kommen lassen.
LAST-MODIFIED:20211101T123142Z
LOCATION:Hybrid: Digital via WebEx / In Präsenz: Biegenstraße 14\, Hörs
 aalgebäude (B | 01)\, +1/0020
URL:https://www.uni-marburg.de/de/cnms/aktuelles/termine/umsonst-habt-ihr-
 empfangen-umsonst-sollt-ihr-geben-christliche-aerzte-in-der-spaetantike
END:VEVENT
BEGIN:VTIMEZONE
TZID:Europe/Berlin
X-LIC-LOCATION:Europe/Berlin
BEGIN:STANDARD
DTSTART:20211031T020000
TZNAME:CET
TZOFFSETFROM:+0200
TZOFFSETTO:+0100
END:STANDARD
END:VTIMEZONE
END:VCALENDAR
