BEGIN:VCALENDAR
VERSION:2.0
PRODID:-//Plone.org//NONSGML plone.app.event//EN
X-WR-TIMEZONE:Europe/Berlin
BEGIN:VEVENT
SUMMARY:Vom Feind lernen? Ambivalente Feindschaft in Israel/Palästina
DTSTART;TZID=Europe/Berlin:20250715T180000
DTEND;TZID=Europe/Berlin:20250715T200000
DTSTAMP:20260424T131244Z
UID:ba6a4bd39bf44d39a597eb98714e19c3@www.uni-marburg.de
ATTENDEE;CN="Prof. Dr. Johannes Becke (Jüdische Hochschule Heidelberg)";R
 OLE=REQ-PARTICIPANT:Prof. Dr. Johannes Becke (Jüdische Hochschule Heidelb
 erg)
CREATED:20250522T160741Z
DESCRIPTION:https://www.uni-marburg.de/de/cnms/aktuelles/termine/vom-feind
 -lernen-ambivalente-feindschaft-in-israel-palaestina\nNach dem Hamas-Massa
 ker des 7. Oktobers und dem darauffolgenden harten Krieg im Gazastreifen w
 irkt die Feindschaft zwischen Israelis und Palästinensern unversöhnlich 
 und kaum noch zu überbrücken. Bei aller Feindschaft lassen sich aber auc
 h viele Elemente von Ambivalenz aufzeigen: Beide Nationalbewegungen sind s
 eit über 100 Jahren aufs engste miteinander verbunden\, lernen voneinande
 r\, bewundern sich bisweilen heimlich. Der Vortrag entwickelt einen theore
 tischen Rahmen für diese ambivalente Feindschaft und diskutiert Fallstudi
 en - warum lernen israelische Siedler Arabisch? Und wie antwortet die pal
 ästinensische Unabhängigkeitserklärung auf die israelische Unabhängigk
 eitserklärung?
LAST-MODIFIED:20250701T154207Z
LOCATION:Hörsaal CNMS 00A26
URL:https://www.uni-marburg.de/de/cnms/aktuelles/termine/vom-feind-lernen-
 ambivalente-feindschaft-in-israel-palaestina
END:VEVENT
BEGIN:VTIMEZONE
TZID:Europe/Berlin
X-LIC-LOCATION:Europe/Berlin
BEGIN:DAYLIGHT
DTSTART:20250330T030000
TZNAME:CEST
TZOFFSETFROM:+0100
TZOFFSETTO:+0200
END:DAYLIGHT
END:VTIMEZONE
END:VCALENDAR
