BEGIN:VCALENDAR
VERSION:2.0
PRODID:-//Plone.org//NONSGML plone.app.event//EN
X-WR-TIMEZONE:Europe/Berlin
BEGIN:VEVENT
SUMMARY:Vom Garten Eden bis zu den hängenden Gärten: Der Garten als Ort 
 herrschaftlicher und wissenschaftlicher Macht im alten Mesopotamien
DTSTART;TZID=Europe/Berlin:20241216T180000
DTEND;TZID=Europe/Berlin:20241216T200000
DTSTAMP:20260425T201636Z
UID:343d2729914e4b1987e098614c8f8c84@www.uni-marburg.de
ATTENDEE;CN="Adam Howe, CNMS";ROLE=REQ-PARTICIPANT:Adam Howe, CNMS
CREATED:20241014T132148Z
DESCRIPTION:https://www.uni-marburg.de/de/cnms/aktuelles/termine/vom-garte
 n-eden-bis-zu-den-haengenden-gaerten-der-garten-als-ort-herrschaftlicher-u
 nd-wissenschaftlicher-macht-im-alten-mesopotamien\nRingvorlesung MCAW
LAST-MODIFIED:20241014T132157Z
LOCATION:UB Vortragsraum B008
URL:https://www.uni-marburg.de/de/cnms/aktuelles/termine/vom-garten-eden-b
 is-zu-den-haengenden-gaerten-der-garten-als-ort-herrschaftlicher-und-wisse
 nschaftlicher-macht-im-alten-mesopotamien
END:VEVENT
BEGIN:VTIMEZONE
TZID:Europe/Berlin
X-LIC-LOCATION:Europe/Berlin
BEGIN:STANDARD
DTSTART:20241027T020000
TZNAME:CET
TZOFFSETFROM:+0200
TZOFFSETTO:+0100
END:STANDARD
END:VTIMEZONE
END:VCALENDAR
