BEGIN:VCALENDAR
VERSION:2.0
PRODID:-//Plone.org//NONSGML plone.app.event//EN
X-WR-TIMEZONE:Europe/Berlin
BEGIN:VEVENT
SUMMARY:Dr. Volker Adams: Vorstellung des FID und menalib in Halle
DTSTART;VALUE=DATE:20230117
DTEND;VALUE=DATE:20230118
DTSTAMP:20260424T140139Z
UID:f0fbc1195b0e4a48823ba4c652d04580@www.uni-marburg.de
ATTENDEE;CN="Dr. Volker Adams";ROLE=REQ-PARTICIPANT:Dr. Volker Adams
CREATED:20220927T110521Z
DESCRIPTION:https://www.uni-marburg.de/de/cnms/aktuelles/termine/vorstellu
 ng-des-fid-und-menalib-in-halle\n
LAST-MODIFIED:20221128T133838Z
LOCATION:Marburg\, CNMS\, 00A26
URL:https://www.uni-marburg.de/de/cnms/aktuelles/termine/vorstellung-des-f
 id-und-menalib-in-halle
END:VEVENT
END:VCALENDAR
