BEGIN:VCALENDAR
VERSION:2.0
PRODID:-//Plone.org//NONSGML plone.app.event//EN
X-WR-TIMEZONE:Europe/Berlin
BEGIN:VEVENT
SUMMARY:Vortrag: "Les relations germano-tunisiennes durant un siècle (184
 2-1945)"
DTSTART;TZID=Europe/Berlin:20230607T180000
DTEND;TZID=Europe/Berlin:20230607T200000
DTSTAMP:20260421T164312Z
UID:9a6fc6f1892642b2a864b2b3afa9bc63@www.uni-marburg.de
ATTENDEE;CN="Prof. Dr. Abdelwahed Mokni";ROLE=REQ-PARTICIPANT:Prof. Dr. Ab
 delwahed Mokni
CREATED:20230531T091104Z
DESCRIPTION:https://www.uni-marburg.de/de/cnms/aktuelles/termine/vortrag-l
 es-relations-germano-tunisiennes-durant-un-siecle-1842-1945\n
LAST-MODIFIED:20230531T091121Z
LOCATION:CNMS\, Raum 00A23
URL:https://www.uni-marburg.de/de/cnms/aktuelles/termine/vortrag-les-relat
 ions-germano-tunisiennes-durant-un-siecle-1842-1945
END:VEVENT
BEGIN:VTIMEZONE
TZID:Europe/Berlin
X-LIC-LOCATION:Europe/Berlin
BEGIN:DAYLIGHT
DTSTART:20230326T030000
TZNAME:CEST
TZOFFSETFROM:+0100
TZOFFSETTO:+0200
END:DAYLIGHT
END:VTIMEZONE
END:VCALENDAR
