BEGIN:VCALENDAR
VERSION:2.0
PRODID:-//Plone.org//NONSGML plone.app.event//EN
X-WR-TIMEZONE:Europe/Berlin
BEGIN:VEVENT
SUMMARY:Rescuing the Enlightenment from the Europeans: Critical Theories o
 f Decolonization
DTSTART;TZID=Europe/Berlin:20241121T181500
DTEND;TZID=Europe/Berlin:20241121T194500
DTSTAMP:20260420T074546Z
UID:0d80fa60858a4bc08c254bfde48e830f@www.uni-marburg.de
ATTENDEE;CN="Nikita Dhawan";ROLE=REQ-PARTICIPANT:Nikita Dhawan
CREATED:20241004T152545Z
DESCRIPTION:https://www.uni-marburg.de/de/cnms/aktuelles/termine/vortrag-n
 ikita-dhawan-titel-tba\nWorkshop zu postkolonialen Themen
LAST-MODIFIED:20241030T164422Z
LOCATION:CNMS\, 00A26
URL:https://www.uni-marburg.de/de/cnms/aktuelles/termine/vortrag-nikita-dh
 awan-titel-tba
END:VEVENT
BEGIN:VTIMEZONE
TZID:Europe/Berlin
X-LIC-LOCATION:Europe/Berlin
BEGIN:STANDARD
DTSTART:20241027T020000
TZNAME:CET
TZOFFSETFROM:+0200
TZOFFSETTO:+0100
END:STANDARD
END:VTIMEZONE
END:VCALENDAR
