BEGIN:VCALENDAR
VERSION:2.0
PRODID:-//Plone.org//NONSGML plone.app.event//EN
X-WR-TIMEZONE:Europe/Berlin
BEGIN:VEVENT
SUMMARY:Vortrag: „Partial preservation of the Semitic case system in Old
  Aramaic (9th-8th c. BCE)”
DTSTART;TZID=Europe/Berlin:20230606T181500
DTEND;TZID=Europe/Berlin:20230606T194500
DTSTAMP:20260423T155007Z
UID:ba773e9644c444b1b12a4e6e9a20a45a@www.uni-marburg.de
ATTENDEE;CN="Dr. Benjamin Suchard";ROLE=REQ-PARTICIPANT:Dr. Benjamin Sucha
 rd
CREATED:20230530T062508Z
DESCRIPTION:https://www.uni-marburg.de/de/cnms/aktuelles/termine/vortrag-p
 artial-preservation-of-the-semitic-case-system-in-old-aramaic-9th-8th-c-bc
 e-201d\n
LAST-MODIFIED:20230606T124653Z
LOCATION:CNMS\, Raum 01A03
URL:https://www.uni-marburg.de/de/cnms/aktuelles/termine/vortrag-partial-p
 reservation-of-the-semitic-case-system-in-old-aramaic-9th-8th-c-bce-201d
END:VEVENT
BEGIN:VTIMEZONE
TZID:Europe/Berlin
X-LIC-LOCATION:Europe/Berlin
BEGIN:DAYLIGHT
DTSTART:20230326T030000
TZNAME:CEST
TZOFFSETFROM:+0100
TZOFFSETTO:+0200
END:DAYLIGHT
END:VTIMEZONE
END:VCALENDAR
