BEGIN:VCALENDAR
VERSION:2.0
PRODID:-//Plone.org//NONSGML plone.app.event//EN
X-WR-TIMEZONE:Europe/Berlin
BEGIN:VEVENT
SUMMARY:Vortrag: "Sprachliche Situation der Insel Gozo\, Malta / Linguisti
 c situation of the island of Gozo\, Malta"
DTSTART;TZID=Europe/Berlin:20230615T180000
DTEND;TZID=Europe/Berlin:20230615T200000
DTSTAMP:20260425T160339Z
UID:e3361598011643cf900617c98afd6f73@www.uni-marburg.de
ATTENDEE;CN="PD Dr. Maciej Tomasz Klimiuk";ROLE=REQ-PARTICIPANT:PD Dr. Mac
 iej Tomasz Klimiuk
CREATED:20230530T062858Z
DESCRIPTION:https://www.uni-marburg.de/de/cnms/aktuelles/termine/vortrag-s
 prachliche-situation-der-insel-gozo-malta-linguistic-situation-of-the-isla
 nd-of-gozo-malta\n
LAST-MODIFIED:20230531T092632Z
LOCATION:CNMS\, Raum 00A23
URL:https://www.uni-marburg.de/de/cnms/aktuelles/termine/vortrag-sprachlic
 he-situation-der-insel-gozo-malta-linguistic-situation-of-the-island-of-go
 zo-malta
END:VEVENT
BEGIN:VTIMEZONE
TZID:Europe/Berlin
X-LIC-LOCATION:Europe/Berlin
BEGIN:DAYLIGHT
DTSTART:20230326T030000
TZNAME:CEST
TZOFFSETFROM:+0100
TZOFFSETTO:+0200
END:DAYLIGHT
END:VTIMEZONE
END:VCALENDAR
