BEGIN:VCALENDAR
VERSION:2.0
PRODID:-//Plone.org//NONSGML plone.app.event//EN
X-WR-TIMEZONE:Europe/Berlin
BEGIN:VEVENT
SUMMARY:Vortrag "To survive\, to imagine\, to rebuild: On Kurdish transfor
 mative imaginaries and mobilization"
DTSTART;TZID=Europe/Berlin:20230707T180000
DTEND;TZID=Europe/Berlin:20230707T200000
DTSTAMP:20260424T045535Z
UID:a0f8c8f6399d4a239eedbe8fe688cc42@www.uni-marburg.de
ATTENDEE;CN="Rosa Burç";ROLE=REQ-PARTICIPANT:Rosa Burç
CREATED:20230629T065336Z
DESCRIPTION:https://www.uni-marburg.de/de/cnms/aktuelles/termine/vortrag-t
 o-survive-to-imagine-to-rebuild-on-kurdish-transformative-imaginaries-and-
 mobilization\n
LAST-MODIFIED:20230629T065451Z
LOCATION:CNMS\, Hörsaal 00A26\, Deutschhausstraße 12
URL:https://www.uni-marburg.de/de/cnms/aktuelles/termine/vortrag-to-surviv
 e-to-imagine-to-rebuild-on-kurdish-transformative-imaginaries-and-mobiliza
 tion
END:VEVENT
BEGIN:VTIMEZONE
TZID:Europe/Berlin
X-LIC-LOCATION:Europe/Berlin
BEGIN:DAYLIGHT
DTSTART:20230326T030000
TZNAME:CEST
TZOFFSETFROM:+0100
TZOFFSETTO:+0200
END:DAYLIGHT
END:VTIMEZONE
END:VCALENDAR
