BEGIN:VCALENDAR
VERSION:2.0
PRODID:-//Plone.org//NONSGML plone.app.event//EN
X-WR-TIMEZONE:Europe/Berlin
BEGIN:VEVENT
SUMMARY:Vortrag von Frau Sandra Hetzl zum Thema: Literatur - Raum - Exil
DTSTART;TZID=Europe/Berlin:20240111T190000
DTEND;TZID=Europe/Berlin:20240111T200000
DTSTAMP:20260425T032805Z
UID:2e7bdd4c58c040848722a213a81593d8@www.uni-marburg.de
CREATED:20231214T172302Z
DESCRIPTION:https://www.uni-marburg.de/de/cnms/aktuelles/termine/vortrag-v
 on-frau-sandra-hetzl-zum-thema-literatur-raum-exil\nEin Podium mit der Üb
 ersetzerin und Vermittlerin neuer arabischer Literatur Sandra Hetzl
LAST-MODIFIED:20240110T144912Z
LOCATION:Ort: Raum 00A23 CNMS
URL:https://www.uni-marburg.de/de/cnms/aktuelles/termine/vortrag-von-frau-
 sandra-hetzl-zum-thema-literatur-raum-exil
END:VEVENT
BEGIN:VTIMEZONE
TZID:Europe/Berlin
X-LIC-LOCATION:Europe/Berlin
BEGIN:STANDARD
DTSTART:20231029T020000
TZNAME:CET
TZOFFSETFROM:+0200
TZOFFSETTO:+0100
END:STANDARD
END:VTIMEZONE
END:VCALENDAR
