BEGIN:VCALENDAR
VERSION:2.0
PRODID:-//Plone.org//NONSGML plone.app.event//EN
X-WR-TIMEZONE:Europe/Berlin
BEGIN:VEVENT
SUMMARY:Vortragsreihe der Islamwissenschaft
DTSTART;TZID=Europe/Berlin:20220526T170000
DTEND;TZID=Europe/Berlin:20220526T190000
DTSTAMP:20260421T012020Z
UID:02846e676bba48309a4a6076edafbd38@www.uni-marburg.de
CREATED:20220413T164308Z
DESCRIPTION:https://www.uni-marburg.de/de/cnms/aktuelles/termine/vortragsr
 eihe-der-islamwissenschaft-1\n
LAST-MODIFIED:20220413T164321Z
LOCATION:Digital
URL:https://www.uni-marburg.de/de/cnms/aktuelles/termine/vortragsreihe-der
 -islamwissenschaft-1
END:VEVENT
BEGIN:VTIMEZONE
TZID:Europe/Berlin
X-LIC-LOCATION:Europe/Berlin
BEGIN:DAYLIGHT
DTSTART:20220327T030000
TZNAME:CEST
TZOFFSETFROM:+0100
TZOFFSETTO:+0200
END:DAYLIGHT
END:VTIMEZONE
END:VCALENDAR
