BEGIN:VCALENDAR
VERSION:2.0
PRODID:-//Plone.org//NONSGML plone.app.event//EN
X-WR-TIMEZONE:Europe/Berlin
BEGIN:VEVENT
SUMMARY:Vortragsreihe der Islamwissenschaft
DTSTART;TZID=Europe/Berlin:20220428T170000
DTEND;TZID=Europe/Berlin:20220428T190000
DTSTAMP:20260420T192926Z
UID:7f306b7803ef411f863a90c2c0b93535@www.uni-marburg.de
CREATED:20220413T162754Z
DESCRIPTION:https://www.uni-marburg.de/de/cnms/aktuelles/termine/vortragsr
 eihe-der-islamwissenschaft\n
LAST-MODIFIED:20220413T162848Z
LOCATION:digital
URL:https://www.uni-marburg.de/de/cnms/aktuelles/termine/vortragsreihe-der
 -islamwissenschaft
END:VEVENT
BEGIN:VTIMEZONE
TZID:Europe/Berlin
X-LIC-LOCATION:Europe/Berlin
BEGIN:DAYLIGHT
DTSTART:20220327T030000
TZNAME:CEST
TZOFFSETFROM:+0100
TZOFFSETTO:+0200
END:DAYLIGHT
END:VTIMEZONE
END:VCALENDAR
