BEGIN:VCALENDAR
VERSION:2.0
PRODID:-//Plone.org//NONSGML plone.app.event//EN
X-WR-TIMEZONE:Europe/Berlin
BEGIN:VEVENT
SUMMARY:Wandermotive in der Welt von 1001 Nacht – Globaler Literaturtran
 sfer von Indien bis Europa
DTSTART;TZID=Europe/Berlin:20230208T201500
DTEND;TZID=Europe/Berlin:20230208T214500
DTSTAMP:20260426T053038Z
UID:464b408110684f82a4c557201a9042ba@www.uni-marburg.de
ATTENDEE;CN="Dr. Claudia Ott, Arabistik, Islamwissenschaft, Iranistik / Ge
 org-August-Universität, Göttingen";ROLE=REQ-PARTICIPANT:Dr. Claudia Ott,
  Arabistik, Islamwissenschaft, Iranistik / Georg-August-Universität, Göt
 tingen
CREATED:20220927T112141Z
DESCRIPTION:https://www.uni-marburg.de/de/cnms/aktuelles/termine/wandermot
 ive-in-der-welt-von-1001-nacht-globaler-literaturtransfer-von-indien-bis-e
 uropa\nStudium Generale der Philipps-Universität Marburg im Wintersemeste
 r 2022/23
LAST-MODIFIED:20221010T102135Z
LOCATION:UB Vortragsraum
URL:https://www.uni-marburg.de/de/cnms/aktuelles/termine/wandermotive-in-d
 er-welt-von-1001-nacht-globaler-literaturtransfer-von-indien-bis-europa
END:VEVENT
BEGIN:VTIMEZONE
TZID:Europe/Berlin
X-LIC-LOCATION:Europe/Berlin
BEGIN:STANDARD
DTSTART:20221030T020000
TZNAME:CET
TZOFFSETFROM:+0200
TZOFFSETTO:+0100
END:STANDARD
END:VTIMEZONE
END:VCALENDAR
