BEGIN:VCALENDAR
VERSION:2.0
PRODID:-//Plone.org//NONSGML plone.app.event//EN
X-WR-TIMEZONE:Europe/Berlin
BEGIN:VEVENT
SUMMARY:Weiterbildung im Archivwesen für islamische Verbände
DTSTART;VALUE=DATE:20231113
DTEND;VALUE=DATE:20231118
DTSTAMP:20260424T233012Z
UID:eb5cf433b4164fee878ddceb4fa0955f@www.uni-marburg.de
CREATED:20231005T085545Z
DESCRIPTION:https://www.uni-marburg.de/de/cnms/aktuelles/termine/weiterbil
 dung-im-archivwesen-fuer-islamische-verbaende\n„Gedächtnis des Islam in
  Deutschland“
LAST-MODIFIED:20231005T085551Z
LOCATION:Mensa Milchbar\, Erlenring 5\, 35037 Marburg
URL:https://www.uni-marburg.de/de/cnms/aktuelles/termine/weiterbildung-im-
 archivwesen-fuer-islamische-verbaende
END:VEVENT
END:VCALENDAR
